BEGIN:VCALENDAR
VERSION:2.0
PRODID:-//PAN-Biotech GmbH - ECPv6.15.20//NONSGML v1.0//EN
CALSCALE:GREGORIAN
METHOD:PUBLISH
X-WR-CALNAME:PAN-Biotech GmbH
X-ORIGINAL-URL:https://pan-biotech.de
X-WR-CALDESC:Veranstaltungen für PAN-Biotech GmbH
REFRESH-INTERVAL;VALUE=DURATION:PT1H
X-Robots-Tag:noindex
X-PUBLISHED-TTL:PT1H
BEGIN:VTIMEZONE
TZID:Europe/Berlin
BEGIN:DAYLIGHT
TZOFFSETFROM:+0100
TZOFFSETTO:+0200
TZNAME:CEST
DTSTART:20230326T010000
END:DAYLIGHT
BEGIN:STANDARD
TZOFFSETFROM:+0200
TZOFFSETTO:+0100
TZNAME:CET
DTSTART:20231029T010000
END:STANDARD
BEGIN:DAYLIGHT
TZOFFSETFROM:+0100
TZOFFSETTO:+0200
TZNAME:CEST
DTSTART:20240331T010000
END:DAYLIGHT
BEGIN:STANDARD
TZOFFSETFROM:+0200
TZOFFSETTO:+0100
TZNAME:CET
DTSTART:20241027T010000
END:STANDARD
BEGIN:DAYLIGHT
TZOFFSETFROM:+0100
TZOFFSETTO:+0200
TZNAME:CEST
DTSTART:20250330T010000
END:DAYLIGHT
BEGIN:STANDARD
TZOFFSETFROM:+0200
TZOFFSETTO:+0100
TZNAME:CET
DTSTART:20251026T010000
END:STANDARD
END:VTIMEZONE
BEGIN:VEVENT
DTSTART;TZID=Europe/Berlin:20241008T080000
DTEND;TZID=Europe/Berlin:20241010T170000
DTSTAMP:20260422T130611
CREATED:20240703T082043Z
LAST-MODIFIED:20240731T125427Z
UID:25549113-1728374400-1728579600@pan-biotech.de
SUMMARY:CPhI Mailand 2024
DESCRIPTION:Aussteller auf der CPhI Mailand 2024 Stand 7F81\, Auftragsfertigung und Dienstleistungen \n			\n			\n				\n				\n				\n				\n			\n				\n				\n				\n				\n				\n				\n				\n				\n				\n				\n				\n\n                \n                        \n                            Free Ticket\n                            Register for a free ticket to CPHI Milan 2024 \n                        \n                        Name(erforderlich)\n                            \n                            \n                                                    Vorname\n                                                    \n                                                \n                            \n                            \n                                                            Nachname\n                                                            \n                                                        \n                            \n                        Company(erforderlich)\n                            \n                            \n                                                    Company Name\n                                                    \n                                                \n                            \n                            \n                                                            Position\n                                                            \n                                                        \n                            \n                        Email(erforderlich)\n                                \n                                    E-Mail eingeben\n                                    \n                                \n                                \n                                    E-Mail bestätigen\n                                    \n                                \n                                \n                            CommentsPlease let us know what's on your mind. Have a question for us? Ask away.CAPTCHA
URL:https://pan-biotech.de/event/cphi-mailand-2024/
ATTACH;FMTTYPE=image/jpeg:https://pan-biotech.de/wp-content/uploads/2024/07/cphi_milan-e1722430450789.jpg
END:VEVENT
END:VCALENDAR